BEGIN:VCALENDAR
VERSION:2.0
PRODID:-//Sabre//Sabre VObject 4.5.8//EN
CALSCALE:GREGORIAN
BEGIN:VEVENT
UID:sabre-vobject-8cc958c5-1e87-4177-9984-40cb088f32f4
DTSTAMP:20260425T203236Z
SUMMARY:Family Movie Night: Frankenweenie
DESCRIPTION:Frankenweenie comes to life in this hilarious story!\n
X-ALT-DESC:FMTTYPE=text/html:<!DOCTYPE HTML PUBLIC "-//W3C//DTD HTML 3.2//E
 N"><HTML><p>Frankenweenie comes to life in this hilarious story!</p>\n</HT
 ML>
CREATED;TZID=America/New_York:20250903T130131
URL;VALUE=URI:https://knox.armymwr.com/view-event
DTSTART;TZID=America/New_York:20251018T110000
DTEND;TZID=America/New_York:20251018T120000
SEQUENCE:0
END:VEVENT
END:VCALENDAR
