BEGIN:VCALENDAR
VERSION:2.0
PRODID:-//Sabre//Sabre VObject 4.5.8//EN
CALSCALE:GREGORIAN
BEGIN:VEVENT
UID:sabre-vobject-16577c94-9d60-4f92-b12a-3d0df7d9a9a0
DTSTAMP:20260426T025239Z
SUMMARY:Wicked Wine and Warrior Poses
DESCRIPTION:Break out your yoga matt for a wicked time!\n
X-ALT-DESC:FMTTYPE=text/html:<!DOCTYPE HTML PUBLIC "-//W3C//DTD HTML 3.2//E
 N"><HTML><p>Break out your yoga matt for a wicked time!</p>\n</HTML>
CREATED;TZID=America/New_York:20250904T093029
URL;VALUE=URI:https://knox.armymwr.com/view-event
DTSTART;TZID=America/New_York:20251016T180000
DTEND;TZID=America/New_York:20251016T200000
SEQUENCE:0
END:VEVENT
END:VCALENDAR
