BEGIN:VCALENDAR
VERSION:2.0
PRODID:-//Sabre//Sabre VObject 4.5.8//EN
CALSCALE:GREGORIAN
BEGIN:VEVENT
UID:sabre-vobject-5eb69041-3afc-4847-8fb8-6739344ae3b4
DTSTAMP:20260424T210048Z
SUMMARY:Scrapbook@Barr: Celebrations
DESCRIPTION:One Page at a Time!\n
X-ALT-DESC:FMTTYPE=text/html:<!DOCTYPE HTML PUBLIC "-//W3C//DTD HTML 3.2//E
 N"><HTML><p>One Page at a Time!</p>\n</HTML>
CREATED;TZID=America/New_York:20260304T084129
URL;VALUE=URI:https://knox.armymwr.com/view-event
DTSTART;TZID=America/New_York:20260430T163000
DTEND;TZID=America/New_York:20260430T173000
SEQUENCE:0
END:VEVENT
END:VCALENDAR
