BEGIN:VCALENDAR
VERSION:2.0
PRODID:-//Sabre//Sabre VObject 4.5.8//EN
CALSCALE:GREGORIAN
BEGIN:VEVENT
UID:sabre-vobject-cfc7f79b-c702-4afc-b3ae-b558de7f339e
DTSTAMP:20260422T094246Z
SUMMARY:Informal Fund Custodian Training
DESCRIPTION:This class gets into the nitty-gritty of the informal fund.\n
X-ALT-DESC:FMTTYPE=text/html:<!DOCTYPE HTML PUBLIC "-//W3C//DTD HTML 3.2//E
 N"><HTML><p>This class gets into the nitty-gritty of the informal fund.</p
 >\n</HTML>
CREATED;TZID=America/New_York:20190327T100446
URL;VALUE=URI:https://knox.armymwr.com/view-event
DTSTART;TZID=America/New_York:20190416T090000
DTEND;TZID=America/New_York:20190416T100000
SEQUENCE:0
END:VEVENT
END:VCALENDAR
