BEGIN:VCALENDAR
VERSION:2.0
PRODID:-//Sabre//Sabre VObject 4.5.8//EN
CALSCALE:GREGORIAN
BEGIN:VEVENT
UID:sabre-vobject-7a26f43c-9d1f-4f62-917d-3de21c4060ab
DTSTAMP:20260421T152248Z
SUMMARY:Devers Outside Play Day
DESCRIPTION:Come celebrate the great outdoors with games and events.\n
X-ALT-DESC:FMTTYPE=text/html:<!DOCTYPE HTML PUBLIC "-//W3C//DTD HTML 3.2//E
 N"><HTML><p>Come celebrate the great outdoors with games and events.</p>\n
 </HTML>
CREATED;TZID=America/New_York:20190402T141803
URL;VALUE=URI:https://knox.armymwr.com/view-event
DTSTART;TZID=America/New_York:20190511T140000
DTEND;TZID=America/New_York:20190511T200000
SEQUENCE:0
END:VEVENT
END:VCALENDAR
