BEGIN:VCALENDAR
VERSION:2.0
PRODID:-//Sabre//Sabre VObject 4.5.8//EN
CALSCALE:GREGORIAN
BEGIN:VEVENT
UID:sabre-vobject-42f09f7f-8df5-4469-b544-e42461022ecc
DTSTAMP:20260420T140522Z
SUMMARY:Authors at Your Library: Bryan Gruley
DESCRIPTION:Award-winning novelist and journalist Bryan Gruley discusses an
 d signs his new thriller\, Bleak Harbor.\n
X-ALT-DESC:FMTTYPE=text/html:<!DOCTYPE HTML PUBLIC "-//W3C//DTD HTML 3.2//E
 N"><HTML><p>Award-winning novelist and journalist Bryan Gruley discusses a
 nd signs his new thriller\, <em>Bleak Harbor</em>.</p>\n</HTML>
CREATED;TZID=America/New_York:20190415T103403
URL;VALUE=URI:https://knox.armymwr.com/view-event
DTSTART;TZID=America/New_York:20190603T120000
DTEND;TZID=America/New_York:20190603T130000
SEQUENCE:0
END:VEVENT
END:VCALENDAR
