BEGIN:VCALENDAR
VERSION:2.0
PRODID:-//Sabre//Sabre VObject 4.5.8//EN
CALSCALE:GREGORIAN
BEGIN:VEVENT
UID:sabre-vobject-276f8d1e-fb61-425b-86ba-9e9e9d4ec1b5
DTSTAMP:20260425T165358Z
SUMMARY:Lunch Bunch: Good in Bed
DESCRIPTION:Join us for a discussion of his novel Good in Bed by Jennifer W
 einer.\n
X-ALT-DESC:FMTTYPE=text/html:<!DOCTYPE HTML PUBLIC "-//W3C//DTD HTML 3.2//E
 N"><HTML><p>Join us for a discussion of his novel <em>Good in Bed</em> by 
 Jennifer Weiner.</p>\n</HTML>
CREATED;TZID=America/New_York:20181227T092244
URL;VALUE=URI:https://knox.armymwr.com/view-event
DTSTART;TZID=America/New_York:20190206T110000
DTEND;TZID=America/New_York:20190206T000000
SEQUENCE:0
END:VEVENT
END:VCALENDAR
