BEGIN:VCALENDAR
VERSION:2.0
PRODID:-//Sabre//Sabre VObject 4.5.8//EN
CALSCALE:GREGORIAN
BEGIN:VEVENT
UID:sabre-vobject-6a09c3d5-b5ee-4d53-a8ec-b3fd3b562e59
DTSTAMP:20260424T155721Z
SUMMARY:Free Family Movie: A Dog's Way Home
DESCRIPTION:CYS Services presents a free movie for the family.\n
X-ALT-DESC:FMTTYPE=text/html:<!DOCTYPE HTML PUBLIC "-//W3C//DTD HTML 3.2//E
 N"><HTML><p>CYS Services presents a free movie for the family.</p>\n</HTML
 >
CREATED;TZID=America/New_York:20190208T161645
URL;VALUE=URI:https://knox.armymwr.com/view-event
DTSTART;TZID=America/New_York:20190217T140000
DTEND;TZID=America/New_York:20190217T150000
SEQUENCE:0
END:VEVENT
END:VCALENDAR
