BEGIN:VCALENDAR
VERSION:2.0
PRODID:-//Sabre//Sabre VObject 4.5.8//EN
CALSCALE:GREGORIAN
BEGIN:VEVENT
UID:sabre-vobject-1c7eafe6-f22a-4042-85b9-1f296d5d8738
DTSTAMP:20260426T012941Z
SUMMARY:Teen Movie Madness: Fantastic Beasts - The Crimes of Grindelwald
DESCRIPTION:A night at the movies for teens.\n
X-ALT-DESC:FMTTYPE=text/html:<!DOCTYPE HTML PUBLIC "-//W3C//DTD HTML 3.2//E
 N"><HTML><p>A night at the movies for teens.</p>\n</HTML>
CREATED;TZID=America/New_York:20181219T151741
URL;VALUE=URI:https://knox.armymwr.com/view-event
DTSTART;TZID=America/New_York:20190105T213000
DTEND;TZID=America/New_York:20190105T235500
SEQUENCE:0
END:VEVENT
END:VCALENDAR
