BEGIN:VCALENDAR
VERSION:2.0
PRODID:-//Sabre//Sabre VObject 4.5.8//EN
CALSCALE:GREGORIAN
BEGIN:VEVENT
UID:sabre-vobject-41cbd10e-6078-48cc-8cfe-171b67dd6cb0
DTSTAMP:20260423T165042Z
SUMMARY:Devers Laser Tag
DESCRIPTION:Zapped or get Zapped at Devers Laser Tag.\n
X-ALT-DESC:FMTTYPE=text/html:<!DOCTYPE HTML PUBLIC "-//W3C//DTD HTML 3.2//E
 N"><HTML><p>Zapped or get Zapped at Devers Laser Tag.</p>\n</HTML>
CREATED;TZID=America/New_York:20190214T143012
URL;VALUE=URI:https://knox.armymwr.com/view-event
DTSTART;TZID=America/New_York:20190329T160000
DTEND;TZID=America/New_York:20190329T200000
SEQUENCE:0
END:VEVENT
END:VCALENDAR
