BEGIN:VCALENDAR
VERSION:2.0
PRODID:-//Sabre//Sabre VObject 4.5.8//EN
CALSCALE:GREGORIAN
BEGIN:VEVENT
UID:sabre-vobject-10b374d7-9b45-4bd7-80a6-3cdf7a1feb44
DTSTAMP:20260424T155612Z
SUMMARY:Devers Staff vs Youth
DESCRIPTION:The Dever Youth take on the Devers Staff for ultimate bragging 
 rights.\n
X-ALT-DESC:FMTTYPE=text/html:<!DOCTYPE HTML PUBLIC "-//W3C//DTD HTML 3.2//E
 N"><HTML><p>The Dever Youth take on the Devers Staff for ultimate bragging
  rights.</p>\n</HTML>
CREATED;TZID=America/New_York:20190108T082024
URL;VALUE=URI:https://knox.armymwr.com/view-event
DTSTART;TZID=America/New_York:20190223T160000
DTEND;TZID=America/New_York:20190223T220000
SEQUENCE:0
END:VEVENT
END:VCALENDAR
