BEGIN:VCALENDAR
VERSION:2.0
PRODID:-//Sabre//Sabre VObject 4.5.8//EN
CALSCALE:GREGORIAN
BEGIN:VEVENT
UID:sabre-vobject-665778e4-af51-4e03-9390-3d7468c98edc
DTSTAMP:20260423T063821Z
SUMMARY:Lunch Bunch: Where the Crawdads Sing
DESCRIPTION:Join us for a discussion of the novel Where the Crawdads Sing b
 y Delia Owens.\n
X-ALT-DESC:FMTTYPE=text/html:<!DOCTYPE HTML PUBLIC "-//W3C//DTD HTML 3.2//E
 N"><HTML><p>Join us for a discussion of the novel <em>Where the Crawdads S
 ing</em> by Delia Owens.</p>\n</HTML>
CREATED;TZID=America/New_York:20190305T162558
URL;VALUE=URI:https://knox.armymwr.com/view-event
DTSTART;TZID=America/New_York:20190403T110000
DTEND;TZID=America/New_York:20190403T120000
SEQUENCE:0
END:VEVENT
END:VCALENDAR
