BEGIN:VCALENDAR
VERSION:2.0
PRODID:-//Sabre//Sabre VObject 4.5.8//EN
CALSCALE:GREGORIAN
BEGIN:VEVENT
UID:sabre-vobject-bebdc856-1516-4e3a-8687-d2019aed98dd
DTSTAMP:20260421T151214Z
SUMMARY:Free Family Movie: Avengers Endgame
DESCRIPTION:CYS Services presents a free movie for the family.\n
X-ALT-DESC:FMTTYPE=text/html:<!DOCTYPE HTML PUBLIC "-//W3C//DTD HTML 3.2//E
 N"><HTML><p>CYS Services presents a free movie for the family.</p>\n</HTML
 >
CREATED;TZID=America/New_York:20190412T110927
URL;VALUE=URI:https://knox.armymwr.com/view-event
DTSTART;TZID=America/New_York:20190428T140000
DTEND;TZID=America/New_York:20190428T150000
SEQUENCE:0
END:VEVENT
END:VCALENDAR
