BEGIN:VCALENDAR
VERSION:2.0
PRODID:-//Sabre//Sabre VObject 4.5.8//EN
CALSCALE:GREGORIAN
BEGIN:VEVENT
UID:sabre-vobject-0ce073f9-4a61-4f94-8601-1e107c4eaee7
DTSTAMP:20260419T132641Z
SUMMARY:Watercolor Workshop
DESCRIPTION:Learn the basic techniques of watercolor painting while creatin
 g beautiful flower painting of your own.\n
X-ALT-DESC:FMTTYPE=text/html:<!DOCTYPE HTML PUBLIC "-//W3C//DTD HTML 3.2//E
 N"><HTML><p>Learn the basic techniques of watercolor painting while creati
 ng beautiful flower painting of your own.</p>\n</HTML>
CREATED;TZID=America/New_York:20190531T090222
URL;VALUE=URI:https://knox.armymwr.com/view-event
DTSTART;TZID=America/New_York:20190612T100000
DTEND;TZID=America/New_York:20190612T120000
SEQUENCE:0
END:VEVENT
BEGIN:VEVENT
UID:sabre-vobject-9c273d06-99d3-44cd-bdf4-5cbd39722fe0
DTSTAMP:20260419T132641Z
SUMMARY:Watercolor Workshop
DESCRIPTION:Learn the basic techniques of watercolor painting while creatin
 g beautiful flower painting of your own.\n
X-ALT-DESC:FMTTYPE=text/html:<!DOCTYPE HTML PUBLIC "-//W3C//DTD HTML 3.2//E
 N"><HTML><p>Learn the basic techniques of watercolor painting while creati
 ng beautiful flower painting of your own.</p>\n</HTML>
CREATED;TZID=America/New_York:20190531T090222
URL;VALUE=URI:https://knox.armymwr.com/view-event
DTSTART;TZID=America/New_York:20190619T170000
DTEND;TZID=America/New_York:20190619T190000
SEQUENCE:1
END:VEVENT
END:VCALENDAR
