BEGIN:VCALENDAR
VERSION:2.0
PRODID:-//Sabre//Sabre VObject 4.5.8//EN
CALSCALE:GREGORIAN
BEGIN:VEVENT
UID:sabre-vobject-ae7f415a-adb6-4f2f-b51c-9e8dfc5b1b84
DTSTAMP:20260419T132641Z
SUMMARY:Basics of Backpacking
DESCRIPTION:Learn the basics of backpacking and get ready to explore the wo
 rld!\n
X-ALT-DESC:FMTTYPE=text/html:<!DOCTYPE HTML PUBLIC "-//W3C//DTD HTML 3.2//E
 N"><HTML><p>Learn the basics of backpacking and get ready to explore the w
 orld!</p>\n</HTML>
CREATED;TZID=America/New_York:20190531T085811
URL;VALUE=URI:https://knox.armymwr.com/view-event
DTSTART;TZID=America/New_York:20190611T180000
DTEND;TZID=America/New_York:20190611T190000
SEQUENCE:0
END:VEVENT
BEGIN:VEVENT
UID:sabre-vobject-59a2178c-e42d-45c1-9292-d3d7612f0f23
DTSTAMP:20260419T132641Z
SUMMARY:Basics of Backpacking
DESCRIPTION:Learn the basics of backpacking and get ready to explore the wo
 rld!\n
X-ALT-DESC:FMTTYPE=text/html:<!DOCTYPE HTML PUBLIC "-//W3C//DTD HTML 3.2//E
 N"><HTML><p>Learn the basics of backpacking and get ready to explore the w
 orld!</p>\n</HTML>
CREATED;TZID=America/New_York:20190531T085811
URL;VALUE=URI:https://knox.armymwr.com/view-event
DTSTART;TZID=America/New_York:20190613T180000
DTEND;TZID=America/New_York:20190613T190000
SEQUENCE:1
END:VEVENT
BEGIN:VEVENT
UID:sabre-vobject-a7b152b7-9c74-4f20-98d2-8ddce7fe9999
DTSTAMP:20260419T132641Z
SUMMARY:Basics of Backpacking
DESCRIPTION:Learn the basics of backpacking and get ready to explore the wo
 rld!\n
X-ALT-DESC:FMTTYPE=text/html:<!DOCTYPE HTML PUBLIC "-//W3C//DTD HTML 3.2//E
 N"><HTML><p>Learn the basics of backpacking and get ready to explore the w
 orld!</p>\n</HTML>
CREATED;TZID=America/New_York:20190531T085811
URL;VALUE=URI:https://knox.armymwr.com/view-event
DTSTART;TZID=America/New_York:20190618T180000
DTEND;TZID=America/New_York:20190618T190000
SEQUENCE:2
END:VEVENT
BEGIN:VEVENT
UID:sabre-vobject-55b96fa2-18d3-4791-baac-2d83e8a29f0a
DTSTAMP:20260419T132641Z
SUMMARY:Basics of Backpacking
DESCRIPTION:Learn the basics of backpacking and get ready to explore the wo
 rld!\n
X-ALT-DESC:FMTTYPE=text/html:<!DOCTYPE HTML PUBLIC "-//W3C//DTD HTML 3.2//E
 N"><HTML><p>Learn the basics of backpacking and get ready to explore the w
 orld!</p>\n</HTML>
CREATED;TZID=America/New_York:20190531T085811
URL;VALUE=URI:https://knox.armymwr.com/view-event
DTSTART;TZID=America/New_York:20190620T180000
DTEND;TZID=America/New_York:20190620T190000
SEQUENCE:3
END:VEVENT
END:VCALENDAR
