BEGIN:VCALENDAR
VERSION:2.0
PRODID:-//Sabre//Sabre VObject 4.5.8//EN
CALSCALE:GREGORIAN
BEGIN:VEVENT
UID:sabre-vobject-892911e3-10b1-469a-abd0-022f08fba60a
DTSTAMP:20260423T155341Z
SUMMARY:Kick Butts Dodge Ball
DESCRIPTION:Play Kick Butts Dodge Ball as we take part in a campaign for ta
 bacco free kids and teens.\n
X-ALT-DESC:FMTTYPE=text/html:<!DOCTYPE HTML PUBLIC "-//W3C//DTD HTML 3.2//E
 N"><HTML><p>Play Kick Butts Dodge Ball as we take part in a campaign for t
 abacco free kids and teens.</p>\n</HTML>
CREATED;TZID=America/New_York:20190214T145552
URL;VALUE=URI:https://knox.armymwr.com/view-event
DTSTART;TZID=America/New_York:20190311T160000
DTEND;TZID=America/New_York:20190311T170000
SEQUENCE:0
END:VEVENT
END:VCALENDAR
