BEGIN:VCALENDAR
VERSION:2.0
PRODID:-//Sabre//Sabre VObject 4.5.8//EN
CALSCALE:GREGORIAN
BEGIN:VEVENT
UID:sabre-vobject-37c98d0f-76d3-4bd1-aa94-6816d68801ba
DTSTAMP:20260422T093442Z
SUMMARY:Authors At Your Library: Robert Brooks
DESCRIPTION:Robert Brooks discusses and signs his debut book From the Froze
 n Chosin to Churchill.\n
X-ALT-DESC:FMTTYPE=text/html:<!DOCTYPE HTML PUBLIC "-//W3C//DTD HTML 3.2//E
 N"><HTML><p>Robert Brooks discusses and signs his debut book <em>From the 
 Frozen Chosin to Churchill.</em></p>\n</HTML>
CREATED;TZID=America/New_York:20190214T140123
URL;VALUE=URI:https://knox.armymwr.com/view-event
DTSTART;TZID=America/New_York:20190411T120000
DTEND;TZID=America/New_York:20190411T130000
SEQUENCE:0
END:VEVENT
END:VCALENDAR
