BEGIN:VCALENDAR
VERSION:2.0
PRODID:-//Sabre//Sabre VObject 4.5.8//EN
CALSCALE:GREGORIAN
BEGIN:VEVENT
UID:sabre-vobject-a7613f2a-83db-43b1-8a69-cd072de17811
DTSTAMP:20260422T094248Z
SUMMARY:Backpacking Big South Fork
DESCRIPTION:A great two-day adventure for backpackers of all exerience leve
 ls.\n
X-ALT-DESC:FMTTYPE=text/html:<!DOCTYPE HTML PUBLIC "-//W3C//DTD HTML 3.2//E
 N"><HTML><p>A great two-day adventure for backpackers of all exerience lev
 els.</p>\n</HTML>
CREATED;TZID=America/New_York:20190321T085301
URL;VALUE=URI:https://knox.armymwr.com/view-event
DTSTART;TZID=America/New_York:20190413T000000
DTEND;TZID=America/New_York:20190414T235959
SEQUENCE:0
END:VEVENT
END:VCALENDAR
