BEGIN:VCALENDAR
VERSION:2.0
PRODID:-//Sabre//Sabre VObject 4.5.8//EN
CALSCALE:GREGORIAN
BEGIN:VEVENT
UID:sabre-vobject-0e4eda65-693e-4a6e-8486-98a4c45e0476
DTSTAMP:20260421T121508Z
SUMMARY:Intramural Softball Coaches Meeting
DESCRIPTION:Get Ready! Softball season is right around the corner.\n
X-ALT-DESC:FMTTYPE=text/html:<!DOCTYPE HTML PUBLIC "-//W3C//DTD HTML 3.2//E
 N"><HTML><p>Get Ready! Softball season is right around the corner.</p>\n</
 HTML>
CREATED;TZID=America/New_York:20190412T111240
URL;VALUE=URI:https://knox.armymwr.com/view-event
DTSTART;TZID=America/New_York:20190430T123000
DTEND;TZID=America/New_York:20190430T133000
SEQUENCE:0
END:VEVENT
BEGIN:VEVENT
UID:sabre-vobject-7e133055-3b19-4df9-afdb-17dc5a7d8c4e
DTSTAMP:20260421T121508Z
SUMMARY:Intramural Softball Coaches Meeting
DESCRIPTION:Get Ready! Softball season is right around the corner.\n
X-ALT-DESC:FMTTYPE=text/html:<!DOCTYPE HTML PUBLIC "-//W3C//DTD HTML 3.2//E
 N"><HTML><p>Get Ready! Softball season is right around the corner.</p>\n</
 HTML>
CREATED;TZID=America/New_York:20190412T111240
URL;VALUE=URI:https://knox.armymwr.com/view-event
DTSTART;TZID=America/New_York:20190507T123000
DTEND;TZID=America/New_York:20190507T133000
SEQUENCE:1
END:VEVENT
END:VCALENDAR
