BEGIN:VCALENDAR
VERSION:2.0
PRODID:-//Sabre//Sabre VObject 4.5.8//EN
CALSCALE:GREGORIAN
BEGIN:VEVENT
UID:sabre-vobject-4f65743d-2f58-47eb-b1d1-edf95499071a
DTSTAMP:20260424T155721Z
SUMMARY:Baseball Preseason Training Camp
DESCRIPTION:Youth Baseball Preseason Training Camp. All skill levels welcom
 e.\n
X-ALT-DESC:FMTTYPE=text/html:<!DOCTYPE HTML PUBLIC "-//W3C//DTD HTML 3.2//E
 N"><HTML><p>Youth Baseball Preseason Training Camp. All skill levels welco
 me.</p>\n</HTML>
CREATED;TZID=America/New_York:20181123T090742
URL;VALUE=URI:https://knox.armymwr.com/view-event
DTSTART;TZID=America/New_York:20190129T173000
DTEND;TZID=America/New_York:20190129T190000
SEQUENCE:0
END:VEVENT
END:VCALENDAR
