BEGIN:VCALENDAR
VERSION:2.0
PRODID:-//Sabre//Sabre VObject 4.5.8//EN
CALSCALE:GREGORIAN
BEGIN:VEVENT
UID:sabre-vobject-ff8f0f78-76cf-458f-b34e-908705a65a3f
DTSTAMP:20260424T021233Z
SUMMARY:Intramural Volleyball Coaches Meeting
DESCRIPTION:Bump. Set. Spike! Get ready for some volleyball.\n
X-ALT-DESC:FMTTYPE=text/html:<!DOCTYPE HTML PUBLIC "-//W3C//DTD HTML 3.2//E
 N"><HTML><p>Bump. Set.<strong> Spike!</strong> Get ready for some volleyba
 ll.</p>\n</HTML>
CREATED;TZID=America/New_York:20190103T102501
URL;VALUE=URI:https://knox.armymwr.com/view-event
DTSTART;TZID=America/New_York:20190219T123000
DTEND;TZID=America/New_York:20190219T133000
SEQUENCE:0
END:VEVENT
BEGIN:VEVENT
UID:sabre-vobject-f267790c-3228-4371-8d55-10106bd9cf4f
DTSTAMP:20260424T021233Z
SUMMARY:Intramural Volleyball Coaches Meeting
DESCRIPTION:Bump. Set. Spike! Get ready for some volleyball.\n
X-ALT-DESC:FMTTYPE=text/html:<!DOCTYPE HTML PUBLIC "-//W3C//DTD HTML 3.2//E
 N"><HTML><p>Bump. Set.<strong> Spike!</strong> Get ready for some volleyba
 ll.</p>\n</HTML>
CREATED;TZID=America/New_York:20190103T102501
URL;VALUE=URI:https://knox.armymwr.com/view-event
DTSTART;TZID=America/New_York:20190305T123000
DTEND;TZID=America/New_York:20190305T133000
SEQUENCE:1
END:VEVENT
END:VCALENDAR
