BEGIN:VCALENDAR
VERSION:2.0
PRODID:-//Sabre//Sabre VObject 4.5.8//EN
CALSCALE:GREGORIAN
BEGIN:VEVENT
UID:sabre-vobject-dd9bc377-ba03-4c22-aecd-9350a8ea52fd
DTSTAMP:20260423T232038Z
SUMMARY:Authors At Your Library: Greg Iles
DESCRIPTION:#1 New York Times bestselling author Greg Iles discusses and si
 gns his new thriller\, Cemetery Road.\n
X-ALT-DESC:FMTTYPE=text/html:<!DOCTYPE HTML PUBLIC "-//W3C//DTD HTML 3.2//E
 N"><HTML><p>#1 <em>New York Times </em>bestselling author Greg Iles discus
 ses and signs his new thriller\, <em>Cemetery Road.</em></p>\n</HTML>
CREATED;TZID=America/New_York:20190107T161113
URL;VALUE=URI:https://knox.armymwr.com/view-event
DTSTART;TZID=America/New_York:20190311T120000
DTEND;TZID=America/New_York:20190311T130000
SEQUENCE:0
END:VEVENT
END:VCALENDAR
