BEGIN:VCALENDAR
VERSION:2.0
PRODID:-//Sabre//Sabre VObject 4.5.8//EN
CALSCALE:GREGORIAN
BEGIN:VEVENT
UID:sabre-vobject-a411571d-6ef0-4cab-a98a-b7c731c01a6d
DTSTAMP:20260424T063814Z
SUMMARY:Friday Evening Childcare
DESCRIPTION:Kids on Site Friday Evening Childcare at the CDC.\n
X-ALT-DESC:FMTTYPE=text/html:<!DOCTYPE HTML PUBLIC "-//W3C//DTD HTML 3.2//E
 N"><HTML><p>Kids on Site Friday Evening Childcare at the CDC.</p>\n</HTML>
CREATED;TZID=America/New_York:20190115T135031
URL;VALUE=URI:https://knox.armymwr.com/view-event
DTSTART;TZID=America/New_York:20190322T183000
DTEND;TZID=America/New_York:20190322T220000
SEQUENCE:0
END:VEVENT
END:VCALENDAR
