BEGIN:VCALENDAR
VERSION:2.0
PRODID:-//Sabre//Sabre VObject 4.5.8//EN
CALSCALE:GREGORIAN
BEGIN:VEVENT
UID:sabre-vobject-126d7458-8f92-48f7-9440-5e75ecfc6be1
DTSTAMP:20260423T094232Z
SUMMARY:Pickleball Tournament
DESCRIPTION:Are you and your partner the best there is? Prove it\, once and
  for all.\n
X-ALT-DESC:FMTTYPE=text/html:<!DOCTYPE HTML PUBLIC "-//W3C//DTD HTML 3.2//E
 N"><HTML><p>Are you and your partner the best there is? Prove it\, once an
 d for all.</p>\n</HTML>
CREATED;TZID=America/New_York:20190215T154449
URL;VALUE=URI:https://knox.armymwr.com/view-event
DTSTART;TZID=America/New_York:20190323T100000
DTEND;TZID=America/New_York:20190323T110000
SEQUENCE:0
END:VEVENT
END:VCALENDAR
