BEGIN:VCALENDAR
VERSION:2.0
PRODID:-//Sabre//Sabre VObject 4.5.8//EN
CALSCALE:GREGORIAN
BEGIN:VEVENT
UID:sabre-vobject-46c52c7e-4be9-44f3-9acf-c5d19e949c17
DTSTAMP:20260422T093440Z
SUMMARY:Gone Fishing Trout Fest
DESCRIPTION:Open to the public\, all ages and all skill levels.\n
X-ALT-DESC:FMTTYPE=text/html:<!DOCTYPE HTML PUBLIC "-//W3C//DTD HTML 3.2//E
 N"><HTML><p>Open to the public\, all ages and all skill levels.</p>\n</HTM
 L>
CREATED;TZID=America/New_York:20190409T091449
URL;VALUE=URI:https://knox.armymwr.com/view-event
DTSTART;TZID=America/New_York:20190413T090000
DTEND;TZID=America/New_York:20190413T150000
SEQUENCE:0
END:VEVENT
END:VCALENDAR
