BEGIN:VCALENDAR
VERSION:2.0
PRODID:-//Sabre//Sabre VObject 4.5.8//EN
CALSCALE:GREGORIAN
BEGIN:VEVENT
UID:sabre-vobject-626f2191-87d5-4821-925f-bd7d048d5d99
DTSTAMP:20260423T051135Z
SUMMARY:Family Readiness Group (FRG) Leader Training
DESCRIPTION:Open to all Military and their Family members.\n
X-ALT-DESC:FMTTYPE=text/html:<!DOCTYPE HTML PUBLIC "-//W3C//DTD HTML 3.2//E
 N"><HTML><p>Open to all Military and their Family members.</p>\n</HTML>
CREATED;TZID=America/New_York:20190327T090610
URL;VALUE=URI:https://knox.armymwr.com/view-event
DTSTART;TZID=America/New_York:20190402T090000
DTEND;TZID=America/New_York:20190402T120000
SEQUENCE:0
END:VEVENT
END:VCALENDAR
