BEGIN:VCALENDAR
VERSION:2.0
PRODID:-//Sabre//Sabre VObject 4.5.8//EN
CALSCALE:GREGORIAN
BEGIN:VEVENT
UID:sabre-vobject-42e9d150-6958-4877-a411-6e12a195f3c5
DTSTAMP:20260422T093441Z
SUMMARY:How to Promote Yourself
DESCRIPTION:Open to Active Duty Military\, Retired Soldiers\, DOD Civilian 
 employees and their Family members.\n
X-ALT-DESC:FMTTYPE=text/html:<!DOCTYPE HTML PUBLIC "-//W3C//DTD HTML 3.2//E
 N"><HTML><p>Open to Active Duty Military\, Retired Soldiers\, DOD Civilian
  employees and their Family members.</p>\n</HTML>
CREATED;TZID=America/New_York:20190327T091711
URL;VALUE=URI:https://knox.armymwr.com/view-event
DTSTART;TZID=America/New_York:20190411T090000
DTEND;TZID=America/New_York:20190411T120000
SEQUENCE:0
END:VEVENT
END:VCALENDAR
