BEGIN:VCALENDAR
VERSION:2.0
PRODID:-//Sabre//Sabre VObject 4.5.8//EN
CALSCALE:GREGORIAN
BEGIN:VEVENT
UID:sabre-vobject-54870adb-032b-4285-b9f2-563264f4dc43
DTSTAMP:20260422T011154Z
SUMMARY:Kindness Rocks!
DESCRIPTION:Spread kindness and inspiration by painting something nice on a
  rock\, then leave it where a stranger can find it.\n
X-ALT-DESC:FMTTYPE=text/html:<!DOCTYPE HTML PUBLIC "-//W3C//DTD HTML 3.2//E
 N"><HTML><p>Spread kindness and inspiration by painting something nice on 
 a rock\, then leave it where a stranger can find it.</p>\n</HTML>
CREATED;TZID=America/New_York:20190402T095414
URL;VALUE=URI:https://knox.armymwr.com/view-event
DTSTART;TZID=America/New_York:20190502T143000
DTEND;TZID=America/New_York:20190502T153000
SEQUENCE:0
END:VEVENT
END:VCALENDAR
