BEGIN:VCALENDAR
VERSION:2.0
PRODID:-//Sabre//Sabre VObject 4.5.8//EN
CALSCALE:GREGORIAN
BEGIN:VEVENT
UID:sabre-vobject-08b3dcf1-0cbb-4c30-a875-2c1e991be14b
DTSTAMP:20260422T080931Z
SUMMARY:Racquet Ball Tournament
DESCRIPTION:Single Elimination Tournament hosted by the Fort Knox Intramura
 l Sports Program.\n
X-ALT-DESC:FMTTYPE=text/html:<!DOCTYPE HTML PUBLIC "-//W3C//DTD HTML 3.2//E
 N"><HTML><p>Single Elimination Tournament hosted by the <a href="https://k
 nox.armymwr.com/index.php?cID=12479">Fort Knox Intramural Sports Program</
 a>.</p>\n</HTML>
CREATED;TZID=America/New_York:20190412T110349
URL;VALUE=URI:https://knox.armymwr.com/view-event
DTSTART;TZID=America/New_York:20190416T180000
DTEND;TZID=America/New_York:20190416T200000
SEQUENCE:0
END:VEVENT
END:VCALENDAR
