BEGIN:VCALENDAR
VERSION:2.0
PRODID:-//Sabre//Sabre VObject 4.5.8//EN
CALSCALE:GREGORIAN
BEGIN:VEVENT
UID:sabre-vobject-fbefd263-5b9e-4471-a41f-f4a0ef893300
DTSTAMP:20260425T152145Z
SUMMARY:The Great Pumpkin Run
DESCRIPTION:Come participate in our halloween-themed\, family friendly fun 
 run.\n
X-ALT-DESC:FMTTYPE=text/html:<!DOCTYPE HTML PUBLIC "-//W3C//DTD HTML 3.2//E
 N"><HTML><p>Come participate in our halloween-themed\, family friendly fun
  run.</p>\n</HTML>
CREATED;TZID=America/New_York:20210913T162228
URL;VALUE=URI:https://knox.armymwr.com/view-event
DTSTART;TZID=America/New_York:20211016T100000
DTEND;TZID=America/New_York:20211016T123000
SEQUENCE:0
END:VEVENT
END:VCALENDAR
