BEGIN:VCALENDAR
VERSION:2.0
PRODID:-//Sabre//Sabre VObject 4.5.8//EN
CALSCALE:GREGORIAN
BEGIN:VEVENT
UID:sabre-vobject-d8adb429-131a-4d4a-ab68-77f3d2d983e0
DTSTAMP:20260425T121231Z
SUMMARY:Coping Strategies for the Uncertainties of Life Virtual Webinar
DESCRIPTION:Join Army Community Service with some great advice for everyday
  life.&nbsp\;\n
X-ALT-DESC:FMTTYPE=text/html:<!DOCTYPE HTML PUBLIC "-//W3C//DTD HTML 3.2//E
 N"><HTML><p>Join Army Community Service with some great advice for everyda
 y life.&nbsp\;</p>\n</HTML>
CREATED;TZID=America/New_York:20211001T161326
URL;VALUE=URI:https://knox.armymwr.com/view-event
DTSTART;TZID=America/New_York:20211026T100000
DTEND;TZID=America/New_York:20211026T110000
SEQUENCE:0
END:VEVENT
END:VCALENDAR
