BEGIN:VCALENDAR
VERSION:2.0
PRODID:-//Sabre//Sabre VObject 4.5.8//EN
CALSCALE:GREGORIAN
BEGIN:VEVENT
UID:sabre-vobject-52d34092-79c7-4bde-8a80-b9fa97dbf375
DTSTAMP:20260424T202155Z
SUMMARY:Teen Relationship Abuse Prevention 4 Day Course
DESCRIPTION:Come learn about healthy relationships!\n
X-ALT-DESC:FMTTYPE=text/html:<!DOCTYPE HTML PUBLIC "-//W3C//DTD HTML 3.2//E
 N"><HTML><p>Come learn about healthy relationships!</p>\n</HTML>
CREATED;TZID=America/New_York:20211020T140843
URL;VALUE=URI:https://knox.armymwr.com/view-event
DTSTART;TZID=America/New_York:20211103T154500
DTEND;TZID=America/New_York:20211103T164500
SEQUENCE:0
END:VEVENT
BEGIN:VEVENT
UID:sabre-vobject-c2ddc6a1-97d4-4fe7-8e46-221358656cf4
DTSTAMP:20260424T202155Z
SUMMARY:Teen Relationship Abuse Prevention 4 Day Course
DESCRIPTION:Come learn about healthy relationships!\n
X-ALT-DESC:FMTTYPE=text/html:<!DOCTYPE HTML PUBLIC "-//W3C//DTD HTML 3.2//E
 N"><HTML><p>Come learn about healthy relationships!</p>\n</HTML>
CREATED;TZID=America/New_York:20211020T140843
URL;VALUE=URI:https://knox.armymwr.com/view-event
DTSTART;TZID=America/New_York:20211105T154500
DTEND;TZID=America/New_York:20211105T164500
SEQUENCE:1
END:VEVENT
BEGIN:VEVENT
UID:sabre-vobject-08760dbe-b5a7-4baa-9062-e2667a3e8421
DTSTAMP:20260424T202155Z
SUMMARY:Teen Relationship Abuse Prevention 4 Day Course
DESCRIPTION:Come learn about healthy relationships!\n
X-ALT-DESC:FMTTYPE=text/html:<!DOCTYPE HTML PUBLIC "-//W3C//DTD HTML 3.2//E
 N"><HTML><p>Come learn about healthy relationships!</p>\n</HTML>
CREATED;TZID=America/New_York:20211020T140843
URL;VALUE=URI:https://knox.armymwr.com/view-event
DTSTART;TZID=America/New_York:20211110T154500
DTEND;TZID=America/New_York:20211110T164500
SEQUENCE:2
END:VEVENT
BEGIN:VEVENT
UID:sabre-vobject-e3125409-5a4b-4351-9d71-35f0586a321a
DTSTAMP:20260424T202155Z
SUMMARY:Teen Relationship Abuse Prevention 4 Day Course
DESCRIPTION:Come learn about healthy relationships!\n
X-ALT-DESC:FMTTYPE=text/html:<!DOCTYPE HTML PUBLIC "-//W3C//DTD HTML 3.2//E
 N"><HTML><p>Come learn about healthy relationships!</p>\n</HTML>
CREATED;TZID=America/New_York:20211020T140843
URL;VALUE=URI:https://knox.armymwr.com/view-event
DTSTART;TZID=America/New_York:20211117T154500
DTEND;TZID=America/New_York:20211117T164500
SEQUENCE:3
END:VEVENT
END:VCALENDAR
