BEGIN:VCALENDAR
VERSION:2.0
PRODID:-//Sabre//Sabre VObject 4.5.8//EN
CALSCALE:GREGORIAN
BEGIN:VEVENT
UID:sabre-vobject-b51737a7-da02-424b-871b-cac03e2379c2
DTSTAMP:20260423T155342Z
SUMMARY:Lunch Bunch Book Discussion 
DESCRIPTION:Come join Barr Memorial Library for Lunch Bunch Book Discussion
 : The Snow Child by Eowyn Ivey\n
X-ALT-DESC:FMTTYPE=text/html:<!DOCTYPE HTML PUBLIC "-//W3C//DTD HTML 3.2//E
 N"><HTML><p class="MsoPlainText">Come join Barr Memorial Library for Lunch
  Bunch Book Discussion: The Snow Child by Eowyn Ivey</p>\n</HTML>
CREATED;TZID=America/New_York:20211115T113937
URL;VALUE=URI:https://knox.armymwr.com/view-event
DTSTART;TZID=America/New_York:20211215T120000
DTEND;TZID=America/New_York:20211215T130000
SEQUENCE:0
END:VEVENT
END:VCALENDAR
