BEGIN:VCALENDAR
VERSION:2.0
PRODID:-//Sabre//Sabre VObject 4.5.8//EN
CALSCALE:GREGORIAN
BEGIN:VEVENT
UID:sabre-vobject-8570a993-0090-4a41-a265-d481b66907d4
DTSTAMP:20260421T071726Z
SUMMARY:BOSS Feeding America
DESCRIPTION:BOSS is joining forces with Feeding America and Kentucky&#39\;s
  Heartland to help fight hunger.\n
X-ALT-DESC:FMTTYPE=text/html:<!DOCTYPE HTML PUBLIC "-//W3C//DTD HTML 3.2//E
 N"><HTML><p>BOSS is joining forces with Feeding America and Kentucky&#39\;
 s Heartland to help fight hunger.</p>\n</HTML>
CREATED;TZID=America/New_York:20211210T165920
URL;VALUE=URI:https://knox.armymwr.com/view-event
DTSTART;TZID=America/New_York:20220127T120000
DTEND;TZID=America/New_York:20220127T153000
SEQUENCE:0
END:VEVENT
END:VCALENDAR
