BEGIN:VCALENDAR
VERSION:2.0
PRODID:-//Sabre//Sabre VObject 4.5.8//EN
CALSCALE:GREGORIAN
BEGIN:VEVENT
UID:sabre-vobject-7cb82160-c2d3-4885-a9ad-b1e6bc6a666a
DTSTAMP:20260424T210047Z
SUMMARY:Pumpkins & Poses:  Wine and Wellness Yoga
DESCRIPTION:This season is always a great time to stretch\, relax and unwin
 d\n
X-ALT-DESC:FMTTYPE=text/html:<!DOCTYPE HTML PUBLIC "-//W3C//DTD HTML 3.2//E
 N"><HTML><p>This season is always a great time to stretch\, relax and unwi
 nd</p>\n</HTML>
CREATED;TZID=America/New_York:20240923T090613
URL;VALUE=URI:https://knox.armymwr.com/view-event
DTSTART;TZID=America/New_York:20241024T180000
DTEND;TZID=America/New_York:20241024T200000
SEQUENCE:0
END:VEVENT
END:VCALENDAR
