BEGIN:VCALENDAR
VERSION:2.0
PRODID:-//Sabre//Sabre VObject 4.5.8//EN
CALSCALE:GREGORIAN
BEGIN:VEVENT
UID:sabre-vobject-44bb6d9a-cd87-4dc8-acaa-375f6dea6b34
DTSTAMP:20260420T154728Z
SUMMARY:The Turkey Shoot
DESCRIPTION:Get ready to gobble\, swing\, and score at this four-person gol
 f scramble!\n
X-ALT-DESC:FMTTYPE=text/html:<!DOCTYPE HTML PUBLIC "-//W3C//DTD HTML 3.2//E
 N"><HTML><p>Get ready to gobble\, swing\, and score at this four-person go
 lf scramble!</p>\n</HTML>
CREATED;TZID=America/New_York:20241113T113554
URL;VALUE=URI:https://knox.armymwr.com/view-event
DTSTART;TZID=America/New_York:20241115T100000
DTEND;TZID=America/New_York:20241115T000000
SEQUENCE:0
END:VEVENT
END:VCALENDAR
