BEGIN:VCALENDAR
VERSION:2.0
PRODID:-//Sabre//Sabre VObject 4.5.8//EN
CALSCALE:GREGORIAN
BEGIN:VEVENT
UID:sabre-vobject-bf4f66e1-740f-4a16-ada5-742ec3d9cf52
DTSTAMP:20260420T144346Z
SUMMARY:Used Book Sale Boutique
DESCRIPTION:A wide variety of books to choose from!\n
X-ALT-DESC:FMTTYPE=text/html:<!DOCTYPE HTML PUBLIC "-//W3C//DTD HTML 3.2//E
 N"><HTML><p>A wide variety of books to choose from!</p>\n</HTML>
CREATED;TZID=America/New_York:20241030T112007
URL;VALUE=URI:https://knox.armymwr.com/view-event
DTSTART;TZID=America/New_York:20241202T090000
DTEND;TZID=America/New_York:20241202T190000
SEQUENCE:0
END:VEVENT
BEGIN:VEVENT
UID:sabre-vobject-df914559-82f7-4191-94b6-dcba62ab1746
DTSTAMP:20260420T144346Z
SUMMARY:Used Book Sale Boutique
DESCRIPTION:A wide variety of books to choose from!\n
X-ALT-DESC:FMTTYPE=text/html:<!DOCTYPE HTML PUBLIC "-//W3C//DTD HTML 3.2//E
 N"><HTML><p>A wide variety of books to choose from!</p>\n</HTML>
CREATED;TZID=America/New_York:20241030T112007
URL;VALUE=URI:https://knox.armymwr.com/view-event
DTSTART;TZID=America/New_York:20241203T090000
DTEND;TZID=America/New_York:20241203T190000
SEQUENCE:1
END:VEVENT
BEGIN:VEVENT
UID:sabre-vobject-01ae6a94-2d89-4533-b657-f8ff85a2af84
DTSTAMP:20260420T144346Z
SUMMARY:Used Book Sale Boutique
DESCRIPTION:A wide variety of books to choose from!\n
X-ALT-DESC:FMTTYPE=text/html:<!DOCTYPE HTML PUBLIC "-//W3C//DTD HTML 3.2//E
 N"><HTML><p>A wide variety of books to choose from!</p>\n</HTML>
CREATED;TZID=America/New_York:20241030T112007
URL;VALUE=URI:https://knox.armymwr.com/view-event
DTSTART;TZID=America/New_York:20241204T090000
DTEND;TZID=America/New_York:20241204T190000
SEQUENCE:2
END:VEVENT
BEGIN:VEVENT
UID:sabre-vobject-48ddc9c6-039a-4ce1-8483-10f21595b1fc
DTSTAMP:20260420T144346Z
SUMMARY:Used Book Sale Boutique
DESCRIPTION:A wide variety of books to choose from!\n
X-ALT-DESC:FMTTYPE=text/html:<!DOCTYPE HTML PUBLIC "-//W3C//DTD HTML 3.2//E
 N"><HTML><p>A wide variety of books to choose from!</p>\n</HTML>
CREATED;TZID=America/New_York:20241030T112007
URL;VALUE=URI:https://knox.armymwr.com/view-event
DTSTART;TZID=America/New_York:20241205T090000
DTEND;TZID=America/New_York:20241205T190000
SEQUENCE:3
END:VEVENT
BEGIN:VEVENT
UID:sabre-vobject-b042899d-686a-451a-943f-5403ed76d9b1
DTSTAMP:20260420T144346Z
SUMMARY:Used Book Sale Boutique
DESCRIPTION:A wide variety of books to choose from!\n
X-ALT-DESC:FMTTYPE=text/html:<!DOCTYPE HTML PUBLIC "-//W3C//DTD HTML 3.2//E
 N"><HTML><p>A wide variety of books to choose from!</p>\n</HTML>
CREATED;TZID=America/New_York:20241030T112007
URL;VALUE=URI:https://knox.armymwr.com/view-event
DTSTART;TZID=America/New_York:20241206T090000
DTEND;TZID=America/New_York:20241206T163000
SEQUENCE:4
END:VEVENT
BEGIN:VEVENT
UID:sabre-vobject-97a385cc-5818-4852-9261-59cf8a015081
DTSTAMP:20260420T144346Z
SUMMARY:Used Book Sale Boutique
DESCRIPTION:A wide variety of books to choose from!\n
X-ALT-DESC:FMTTYPE=text/html:<!DOCTYPE HTML PUBLIC "-//W3C//DTD HTML 3.2//E
 N"><HTML><p>A wide variety of books to choose from!</p>\n</HTML>
CREATED;TZID=America/New_York:20241030T112007
URL;VALUE=URI:https://knox.armymwr.com/view-event
DTSTART;TZID=America/New_York:20241207T090000
DTEND;TZID=America/New_York:20241207T163000
SEQUENCE:5
END:VEVENT
BEGIN:VEVENT
UID:sabre-vobject-4d06b507-2277-4eba-abfc-9a13bfc2a947
DTSTAMP:20260420T144346Z
SUMMARY:Used Book Sale Boutique
DESCRIPTION:A wide variety of books to choose from!\n
X-ALT-DESC:FMTTYPE=text/html:<!DOCTYPE HTML PUBLIC "-//W3C//DTD HTML 3.2//E
 N"><HTML><p>A wide variety of books to choose from!</p>\n</HTML>
CREATED;TZID=America/New_York:20241030T112007
URL;VALUE=URI:https://knox.armymwr.com/view-event
DTSTART;TZID=America/New_York:20241209T090000
DTEND;TZID=America/New_York:20241209T190000
SEQUENCE:6
END:VEVENT
BEGIN:VEVENT
UID:sabre-vobject-9503a69b-7e2f-4850-aabd-fa3ba56b06b3
DTSTAMP:20260420T144346Z
SUMMARY:Used Book Sale Boutique
DESCRIPTION:A wide variety of books to choose from!\n
X-ALT-DESC:FMTTYPE=text/html:<!DOCTYPE HTML PUBLIC "-//W3C//DTD HTML 3.2//E
 N"><HTML><p>A wide variety of books to choose from!</p>\n</HTML>
CREATED;TZID=America/New_York:20241030T112007
URL;VALUE=URI:https://knox.armymwr.com/view-event
DTSTART;TZID=America/New_York:20241210T090000
DTEND;TZID=America/New_York:20241210T190000
SEQUENCE:7
END:VEVENT
BEGIN:VEVENT
UID:sabre-vobject-3f7f1c2c-ea52-4eab-b265-d4e6428222bc
DTSTAMP:20260420T144346Z
SUMMARY:Used Book Sale Boutique
DESCRIPTION:A wide variety of books to choose from!\n
X-ALT-DESC:FMTTYPE=text/html:<!DOCTYPE HTML PUBLIC "-//W3C//DTD HTML 3.2//E
 N"><HTML><p>A wide variety of books to choose from!</p>\n</HTML>
CREATED;TZID=America/New_York:20241030T112007
URL;VALUE=URI:https://knox.armymwr.com/view-event
DTSTART;TZID=America/New_York:20241211T090000
DTEND;TZID=America/New_York:20241211T190000
SEQUENCE:8
END:VEVENT
BEGIN:VEVENT
UID:sabre-vobject-08580f3d-446a-44f3-811d-0fba02bfcb1c
DTSTAMP:20260420T144346Z
SUMMARY:Used Book Sale Boutique
DESCRIPTION:A wide variety of books to choose from!\n
X-ALT-DESC:FMTTYPE=text/html:<!DOCTYPE HTML PUBLIC "-//W3C//DTD HTML 3.2//E
 N"><HTML><p>A wide variety of books to choose from!</p>\n</HTML>
CREATED;TZID=America/New_York:20241030T112007
URL;VALUE=URI:https://knox.armymwr.com/view-event
DTSTART;TZID=America/New_York:20241212T090000
DTEND;TZID=America/New_York:20241212T190000
SEQUENCE:9
END:VEVENT
BEGIN:VEVENT
UID:sabre-vobject-fac948ff-c68e-4211-94d5-0d9faa6d2d05
DTSTAMP:20260420T144346Z
SUMMARY:Used Book Sale Boutique
DESCRIPTION:A wide variety of books to choose from!\n
X-ALT-DESC:FMTTYPE=text/html:<!DOCTYPE HTML PUBLIC "-//W3C//DTD HTML 3.2//E
 N"><HTML><p>A wide variety of books to choose from!</p>\n</HTML>
CREATED;TZID=America/New_York:20241030T112007
URL;VALUE=URI:https://knox.armymwr.com/view-event
DTSTART;TZID=America/New_York:20241213T090000
DTEND;TZID=America/New_York:20241213T163000
SEQUENCE:10
END:VEVENT
BEGIN:VEVENT
UID:sabre-vobject-06b2cf52-43d8-49e7-b7a6-e40aac59f8b1
DTSTAMP:20260420T144346Z
SUMMARY:Used Book Sale Boutique
DESCRIPTION:A wide variety of books to choose from!\n
X-ALT-DESC:FMTTYPE=text/html:<!DOCTYPE HTML PUBLIC "-//W3C//DTD HTML 3.2//E
 N"><HTML><p>A wide variety of books to choose from!</p>\n</HTML>
CREATED;TZID=America/New_York:20241030T112007
URL;VALUE=URI:https://knox.armymwr.com/view-event
DTSTART;TZID=America/New_York:20241214T090000
DTEND;TZID=America/New_York:20241214T163000
SEQUENCE:11
END:VEVENT
END:VCALENDAR
