BEGIN:VCALENDAR
VERSION:2.0
PRODID:-//Sabre//Sabre VObject 4.5.8//EN
CALSCALE:GREGORIAN
BEGIN:VEVENT
UID:sabre-vobject-d8f7d38f-a380-43bd-b6d7-4e568ae1f66e
DTSTAMP:20260421T021646Z
SUMMARY:Breakfast and Bowling with Santa
DESCRIPTION:Santa is coming to Houston Bowling Center\n
X-ALT-DESC:FMTTYPE=text/html:<!DOCTYPE HTML PUBLIC "-//W3C//DTD HTML 3.2//E
 N"><HTML><p>Santa is coming to Houston Bowling Center</p>\n</HTML>
CREATED;TZID=America/New_York:20241115T143004
URL;VALUE=URI:https://knox.armymwr.com/view-event
DTSTART;TZID=America/New_York:20241207T080000
DTEND;TZID=America/New_York:20241207T093000
SEQUENCE:0
END:VEVENT
BEGIN:VEVENT
UID:sabre-vobject-49b1c0b3-b764-49f4-b7a5-c699ae8b99c8
DTSTAMP:20260421T021646Z
SUMMARY:Breakfast and Bowling with Santa
DESCRIPTION:Santa is coming to Houston Bowling Center\n
X-ALT-DESC:FMTTYPE=text/html:<!DOCTYPE HTML PUBLIC "-//W3C//DTD HTML 3.2//E
 N"><HTML><p>Santa is coming to Houston Bowling Center</p>\n</HTML>
CREATED;TZID=America/New_York:20241115T143004
URL;VALUE=URI:https://knox.armymwr.com/view-event
DTSTART;TZID=America/New_York:20241207T100000
DTEND;TZID=America/New_York:20241207T113000
SEQUENCE:1
END:VEVENT
END:VCALENDAR
