BEGIN:VCALENDAR
VERSION:2.0
PRODID:-//Sabre//Sabre VObject 4.5.8//EN
CALSCALE:GREGORIAN
BEGIN:VEVENT
UID:sabre-vobject-c71b91c5-f9e0-412e-858c-2cabaf64b760
DTSTAMP:20260420T161644Z
SUMMARY:BOSS Holiday Financial Luncheon 
DESCRIPTION:Join your BOSS team at Balcombe Recreation for an informative l
 unch\n
X-ALT-DESC:FMTTYPE=text/html:<!DOCTYPE HTML PUBLIC "-//W3C//DTD HTML 3.2//E
 N"><HTML><p>Join your BOSS team at Balcombe Recreation for an informative 
 lunch</p>\n</HTML>
CREATED;TZID=America/New_York:20241106T120422
URL;VALUE=URI:https://knox.armymwr.com/view-event
DTSTART;TZID=America/New_York:20241204T110000
DTEND;TZID=America/New_York:20241204T133000
SEQUENCE:0
END:VEVENT
END:VCALENDAR
