BEGIN:VCALENDAR
VERSION:2.0
PRODID:-//Sabre//Sabre VObject 4.5.8//EN
CALSCALE:GREGORIAN
BEGIN:VEVENT
UID:sabre-vobject-9bfc4354-23b4-49d6-bc70-67e5e93a256b
DTSTAMP:20260421T021650Z
SUMMARY:Grinchmas
DESCRIPTION:You can be a Grinch this Christmas season at Anderson Aquatic C
 enter\n
X-ALT-DESC:FMTTYPE=text/html:<!DOCTYPE HTML PUBLIC "-//W3C//DTD HTML 3.2//E
 N"><HTML><p>You can be a Grinch this Christmas season at Anderson Aquatic 
 Center</p>\n</HTML>
CREATED;TZID=America/New_York:20241126T150907
URL;VALUE=URI:https://knox.armymwr.com/view-event
DTSTART;TZID=America/New_York:20241215T120000
DTEND;TZID=America/New_York:20241215T170000
SEQUENCE:0
END:VEVENT
END:VCALENDAR
