BEGIN:VCALENDAR
VERSION:2.0
PRODID:-//Sabre//Sabre VObject 4.5.8//EN
CALSCALE:GREGORIAN
BEGIN:VEVENT
UID:sabre-vobject-cdf1db70-50f6-4c7f-ad5b-402a576c4e03
DTSTAMP:20260420T140524Z
SUMMARY:New Year's Eve Celebration
DESCRIPTION:Ring in the new year at Saber &amp\; Quill. Food\, music\, danc
 ing\, party favors\, midnight toast and more!\n
X-ALT-DESC:FMTTYPE=text/html:<!DOCTYPE HTML PUBLIC "-//W3C//DTD HTML 3.2//E
 N"><HTML><p>Ring in the new year at Saber &amp\; Quill. Food\, music\, dan
 cing\, party favors\, midnight toast and more!</p>\n</HTML>
CREATED;TZID=America/New_York:20241204T084612
URL;VALUE=URI:https://knox.armymwr.com/view-event
DTSTART;TZID=America/New_York:20241231T210000
DTEND;TZID=America/New_York:20250101T010000
SEQUENCE:0
END:VEVENT
END:VCALENDAR
