BEGIN:VCALENDAR
VERSION:2.0
PRODID:-//Sabre//Sabre VObject 4.5.8//EN
CALSCALE:GREGORIAN
BEGIN:VEVENT
UID:sabre-vobject-ddb2fd63-a633-4e38-b49d-323ff097fa36
DTSTAMP:20260420T110612Z
SUMMARY:Tailgate to Touchdown
DESCRIPTION:Grab your friends and come watch the NFL Playoff Games!\n
X-ALT-DESC:FMTTYPE=text/html:<!DOCTYPE HTML PUBLIC "-//W3C//DTD HTML 3.2//E
 N"><HTML><p>Grab your friends and come watch the NFL Playoff Games!</p>\n<
 /HTML>
CREATED;TZID=America/New_York:20241217T145934
URL;VALUE=URI:https://knox.armymwr.com/view-event
DTSTART;TZID=America/New_York:20250111T110000
DTEND;TZID=America/New_York:20250111T120000
SEQUENCE:0
END:VEVENT
BEGIN:VEVENT
UID:sabre-vobject-d83b7a61-20c6-494c-8918-04f4bc6bde1a
DTSTAMP:20260420T110612Z
SUMMARY:Tailgate to Touchdown
DESCRIPTION:Grab your friends and come watch the NFL Playoff Games!\n
X-ALT-DESC:FMTTYPE=text/html:<!DOCTYPE HTML PUBLIC "-//W3C//DTD HTML 3.2//E
 N"><HTML><p>Grab your friends and come watch the NFL Playoff Games!</p>\n<
 /HTML>
CREATED;TZID=America/New_York:20241217T145934
URL;VALUE=URI:https://knox.armymwr.com/view-event
DTSTART;TZID=America/New_York:20250112T110000
DTEND;TZID=America/New_York:20250112T120000
SEQUENCE:1
END:VEVENT
BEGIN:VEVENT
UID:sabre-vobject-4142359f-8013-4419-b731-90cb96de1084
DTSTAMP:20260420T110612Z
SUMMARY:Tailgate to Touchdown
DESCRIPTION:Grab your friends and come watch the NFL Playoff Games!\n
X-ALT-DESC:FMTTYPE=text/html:<!DOCTYPE HTML PUBLIC "-//W3C//DTD HTML 3.2//E
 N"><HTML><p>Grab your friends and come watch the NFL Playoff Games!</p>\n<
 /HTML>
CREATED;TZID=America/New_York:20241217T145934
URL;VALUE=URI:https://knox.armymwr.com/view-event
DTSTART;TZID=America/New_York:20250118T110000
DTEND;TZID=America/New_York:20250118T120000
SEQUENCE:2
END:VEVENT
BEGIN:VEVENT
UID:sabre-vobject-a2bd3df4-04a5-496d-8f43-b016cfdba526
DTSTAMP:20260420T110612Z
SUMMARY:Tailgate to Touchdown
DESCRIPTION:Grab your friends and come watch the NFL Playoff Games!\n
X-ALT-DESC:FMTTYPE=text/html:<!DOCTYPE HTML PUBLIC "-//W3C//DTD HTML 3.2//E
 N"><HTML><p>Grab your friends and come watch the NFL Playoff Games!</p>\n<
 /HTML>
CREATED;TZID=America/New_York:20241217T145934
URL;VALUE=URI:https://knox.armymwr.com/view-event
DTSTART;TZID=America/New_York:20250119T150000
DTEND;TZID=America/New_York:20250119T160000
SEQUENCE:3
END:VEVENT
BEGIN:VEVENT
UID:sabre-vobject-410a607c-87fc-47cd-a54c-a6deda954b1c
DTSTAMP:20260420T110612Z
SUMMARY:Tailgate to Touchdown
DESCRIPTION:Grab your friends and come watch the NFL Playoff Games!\n
X-ALT-DESC:FMTTYPE=text/html:<!DOCTYPE HTML PUBLIC "-//W3C//DTD HTML 3.2//E
 N"><HTML><p>Grab your friends and come watch the NFL Playoff Games!</p>\n<
 /HTML>
CREATED;TZID=America/New_York:20241217T145934
URL;VALUE=URI:https://knox.armymwr.com/view-event
DTSTART;TZID=America/New_York:20250126T150000
DTEND;TZID=America/New_York:20250126T160000
SEQUENCE:4
END:VEVENT
END:VCALENDAR
