BEGIN:VCALENDAR
VERSION:2.0
PRODID:-//Sabre//Sabre VObject 4.5.8//EN
CALSCALE:GREGORIAN
BEGIN:VEVENT
UID:sabre-vobject-8c65cc06-f815-4994-bf10-e45a01bbeb27
DTSTAMP:20260425T035523Z
SUMMARY:Singles Anti Valentine's Day Party
DESCRIPTION:Tired of all the hearts\, roses\, and sappy love songs? Ditch t
 he cliches and join us for a night of fun\, freedom\, and zero relationshi
 p drama!\n
X-ALT-DESC:FMTTYPE=text/html:<!DOCTYPE HTML PUBLIC "-//W3C//DTD HTML 3.2//E
 N"><HTML><p>Tired of all the hearts\, roses\, and sappy love songs? Ditch 
 the cliches and join us for a night of fun\, freedom\, and zero relationsh
 ip drama!</p>\n</HTML>
CREATED;TZID=America/New_York:20250128T114701
URL;VALUE=URI:https://knox.armymwr.com/view-event
DTSTART;TZID=America/New_York:20250214T190000
DTEND;TZID=America/New_York:20250214T235500
SEQUENCE:0
END:VEVENT
END:VCALENDAR
