BEGIN:VCALENDAR
VERSION:2.0
PRODID:-//Sabre//Sabre VObject 4.5.8//EN
CALSCALE:GREGORIAN
BEGIN:VEVENT
UID:sabre-vobject-27afadb4-dd4e-4667-92f2-c0ac70f309c1
DTSTAMP:20260420T110614Z
SUMMARY:Intro to Applications and Software
DESCRIPTION:It is time to learn at Barr Library!\n
X-ALT-DESC:FMTTYPE=text/html:<!DOCTYPE HTML PUBLIC "-//W3C//DTD HTML 3.2//E
 N"><HTML><p>It is time to learn at Barr Library!</p>\n</HTML>
CREATED;TZID=America/New_York:20250311T085402
URL;VALUE=URI:https://knox.armymwr.com/view-event
DTSTART;TZID=America/New_York:20250329T110000
DTEND;TZID=America/New_York:20250329T000000
SEQUENCE:0
END:VEVENT
END:VCALENDAR
